BEGIN:VCALENDAR
VERSION:2.0
PRODID:-//AFSCME Local 88 - ECPv6.15.20//NONSGML v1.0//EN
CALSCALE:GREGORIAN
METHOD:PUBLISH
X-WR-CALNAME:AFSCME Local 88
X-ORIGINAL-URL:https://www.afscmelocal88.org
X-WR-CALDESC:Events for AFSCME Local 88
REFRESH-INTERVAL;VALUE=DURATION:PT1H
X-Robots-Tag:noindex
X-PUBLISHED-TTL:PT1H
BEGIN:VTIMEZONE
TZID:America/Los_Angeles
BEGIN:DAYLIGHT
TZOFFSETFROM:-0800
TZOFFSETTO:-0700
TZNAME:PDT
DTSTART:20230312T100000
END:DAYLIGHT
BEGIN:STANDARD
TZOFFSETFROM:-0700
TZOFFSETTO:-0800
TZNAME:PST
DTSTART:20231105T090000
END:STANDARD
BEGIN:DAYLIGHT
TZOFFSETFROM:-0800
TZOFFSETTO:-0700
TZNAME:PDT
DTSTART:20240310T100000
END:DAYLIGHT
BEGIN:STANDARD
TZOFFSETFROM:-0700
TZOFFSETTO:-0800
TZNAME:PST
DTSTART:20241103T090000
END:STANDARD
BEGIN:DAYLIGHT
TZOFFSETFROM:-0800
TZOFFSETTO:-0700
TZNAME:PDT
DTSTART:20250309T100000
END:DAYLIGHT
BEGIN:STANDARD
TZOFFSETFROM:-0700
TZOFFSETTO:-0800
TZNAME:PST
DTSTART:20251102T090000
END:STANDARD
END:VTIMEZONE
BEGIN:VEVENT
DTSTART;TZID=America/Los_Angeles:20240821T181500
DTEND;TZID=America/Los_Angeles:20240821T181500
DTSTAMP:20260419T073930
CREATED:20231219T025435Z
LAST-MODIFIED:20240222T023928Z
UID:10070-1724264100-1724264100@www.afscmelocal88.org
SUMMARY:Local 88 General Membership Meeting
DESCRIPTION:General Membership Meetings are held the third Wednesday of every month at 6:15 p.m. Any member in good standing is welcome to attend. \nRegister online by 6:00 p.m. the Monday before the General Membership Meeting you wish to attend. Use your personal email address. Late registrations are not guaranteed participation. \nMake a motion Submit the webform by 6:00 p.m. on the Monday before the meeting. Agenda items submitted after that are not guaranteed to be added to the agenda.  \nRequest to add an agenda item Submit the webform by 8:00 a.m. the Friday before the meeting. Agenda items submitted after that are not guaranteed to be added to the agenda.  \nTrouble joining the meeting? Email 88cabinet@afscmelocal88.org for support. \nAdd this event to your personal calendar:  \n\nGoogle Calendar: Use the green button at the bottom of the event +GOOGLE CALENDAR then follow Google Calendar prompts\nOther Calendars: Use the green button at the bottom of the event +ICAL EXPORT to download the .ics file. Then follow the instructions for your calendar\n\nGoogle Calendar\nOutlook Calendar
URL:https://www.afscmelocal88.org/event/local-88-general-membership-meeting-26/
END:VEVENT
BEGIN:VEVENT
DTSTART;TZID=America/Los_Angeles:20240807T181500
DTEND;TZID=America/Los_Angeles:20240807T181500
DTSTAMP:20260419T073930
CREATED:20231219T030341Z
LAST-MODIFIED:20240721T234347Z
UID:10086-1723054500-1723054500@www.afscmelocal88.org
SUMMARY:Local 88 Executive Board Meeting
DESCRIPTION:The Executive Board meets the first Wednesday of every month at 6:15 p.m. Any member in good standing is welcome to attend. \nRegister online by 6:00 p.m. the Monday before the Executive Board Meeting you wish to attend. Use your personal email address. Late registrations are not guaranteed participation. \nRequest to add an agenda item Submit the webform by 8:00 a.m. the Friday before the meeting. Agenda items submitted after that are not guaranteed to be added to the agenda. \nTrouble joining the meeting? Email 88cabinet@afscmelocal88.org for support.
URL:https://www.afscmelocal88.org/event/local-88-executive-board-meeting-29/
END:VEVENT
BEGIN:VEVENT
DTSTART;TZID=America/Los_Angeles:20240626T181500
DTEND;TZID=America/Los_Angeles:20240626T181500
DTSTAMP:20260419T073930
CREATED:20231219T025143Z
LAST-MODIFIED:20240606T050309Z
UID:10066-1719425700-1719425700@www.afscmelocal88.org
SUMMARY:**NEW DATE** Local 88 General Membership Meeting
DESCRIPTION:**UPDATE June 5\, 2024: At the June 5\, 2024 executive board meeting a motion was made and passed to move the June General Membership Meeting to June 26th\, 2024. The original meeting was scheduled on June 19th\, the Juneteenth Holiday. Help spread the word! Download the flyer and post it at your worksite. \nGeneral Membership Meetings are held the third Wednesday of every month at 6:15 p.m. Any member in good standing is welcome to attend. \nRegister online by 6:00 p.m. the Monday before the General Membership Meeting you wish to attend. Use your personal email address. Late registrations are not guaranteed participation. \nMake a motion Submit the webform by 6:00 p.m. on the Monday before the meeting. Agenda items submitted after that are not guaranteed to be added to the agenda.  \nRequest to add an agenda item Submit the webform by 8:00 a.m. the Friday before the meeting. Agenda items submitted after that are not guaranteed to be added to the agenda.  \nTrouble joining the meeting? Email 88cabinet@afscmelocal88.org for support. \nAdd this event to your personal calendar:  \n\nGoogle Calendar: Use the green button at the bottom of the event +GOOGLE CALENDAR then follow Google Calendar prompts\nOther Calendars: Use the green button at the bottom of the event +ICAL EXPORT to download the .ics file. Then follow the instructions for your calendar\n\nGoogle Calendar\nOutlook Calendar
URL:https://www.afscmelocal88.org/event/local-88-general-membership-meeting-24/
END:VEVENT
BEGIN:VEVENT
DTSTART;TZID=America/Los_Angeles:20240605T181500
DTEND;TZID=America/Los_Angeles:20240605T181500
DTSTAMP:20260419T073930
CREATED:20231219T030836Z
LAST-MODIFIED:20240509T030638Z
UID:10094-1717611300-1717611300@www.afscmelocal88.org
SUMMARY:Local 88 Executive Board Meeting
DESCRIPTION:The Executive Board meets the first Wednesday of every month at 6:15 p.m. Any member in good standing is welcome to attend.  \nRegister online by 6:00 p.m. the Monday before the Executive Board Meeting you wish to attend. Use your personal email address. Late registrations are not guaranteed participation. \nRequest to add an agenda item Submit the webform by 8:00 a.m. the Friday before the meeting. Agenda items submitted after that are not guaranteed to be added to the agenda. \nTrouble joining the meeting? Email 88cabinet@afscmelocal88.org for support. \nAdd this event to your personal calendar:  \n\nGoogle Calendar: Use the green button at the bottom of the event +GOOGLE CALENDAR then follow Google Calendar prompts\nOther Calendars: Use the green button at the bottom of the event +ICAL EXPORT to download the .ics file. Then follow the instructions for your calendar\n\nGoogle Calendar\nOutlook Calendar
URL:https://www.afscmelocal88.org/event/local-88-executive-board-meeting-33/
END:VEVENT
BEGIN:VEVENT
DTSTART;TZID=America/Los_Angeles:20240501T180000
DTEND;TZID=America/Los_Angeles:20240501T180000
DTSTAMP:20260419T073930
CREATED:20231219T030206Z
LAST-MODIFIED:20240222T021050Z
UID:10082-1714586400-1714586400@www.afscmelocal88.org
SUMMARY:Local 88 Executive Board Meeting
DESCRIPTION:The Executive Board meets the first Wednesday of every month at 6:00 p.m. Any member in good standing is welcome to attend.  \nRegister online by 6:00 p.m. the Monday before the Executive Board Meeting you wish to attend. Use your personal email address. Late registrations are not guaranteed participation. \nRequest to add an agenda item Submit the webform by 8:00 a.m. the Friday before the meeting. Agenda items submitted after that are not guaranteed to be added to the agenda. \nTrouble joining the meeting? Email 88cabinet@afscmelocal88.org for support. \nAdd this event to your personal calendar:  \n\nGoogle Calendar: Use the green button at the bottom of the event +GOOGLE CALENDAR then follow Google Calendar prompts\nOther Calendars: Use the green button at the bottom of the event +ICAL EXPORT to download the .ics file. Then follow the instructions for your calendar\n\nGoogle Calendar\nOutlook Calendar
URL:https://www.afscmelocal88.org/event/local-88-executive-board-meeting-27/
END:VEVENT
BEGIN:VEVENT
DTSTART;TZID=America/Los_Angeles:20240426T080000
DTEND;TZID=America/Los_Angeles:20240427T160000
DTSTAMP:20260419T073930
CREATED:20240328T030727Z
LAST-MODIFIED:20240328T030727Z
UID:10359-1714118400-1714233600@www.afscmelocal88.org
SUMMARY:Local 88 Steward Training
DESCRIPTION:Whether you have been a steward for many years\, or new to the position\, this 2-day training is for you! This training will walk new stewards (and those that need a refresher) through their critical skills\, concepts and scenarios to become an effective steward. As new union activists\, you will become familiar with your contract\, learn about basic worker rights\, and the role of the steward as an organizer\, leader\, communicator and advocate in the workplace. Seasoned stewards will serve as a source of knowledge\, exchange best practices with others\, and learn new tactics for identifying leaders. We invite you to learn and connect\, as we build collective power! \n\n\n\n\n\n\nWhen:\nApril 26th-27th\, 2024\n8:00 AM- 4:00 PM \nWhere:\nSEIU 503 Building\, 525 NE Oregon St. Portland OR 97232 \n\n\n\n\n\nParticipants will:\n\n\n\n\n\n\nLearn the roles and responsibilities of a steward in the workplace.\nGet familiar with your contract and other worker rights and how to enforce them.\nLearn the 5 steps of the grievance process.\nDiscuss tips\, tools\, and strategies for being a great steward.\nLearn the appropriate and respectful terms to use in discussing issues about race and gender oppression\n\n\n\n\n\n\nWho should attend?\n\n\n\n\n\nAll Local 88 members interested in becoming a steward\, stewards interested in more training and union activists. \n\n\n\n\n\nRegistration\n\n\n\n\n\nPlease register as early as possible to ensure you get a seat\, are counted for food and material\, and to ensure that enough notice is given to your supervisor for approval. Your deadline to register is April 18th\, 2024. \nIf any of the training happens during your regularly scheduled workday\, please complete the Lost Time Request Form \nFor questions\, more information\, and any other inquiries\, please contact Percy Winters\, Jr at ls.hd3@afscmelocal88.org.
URL:https://www.afscmelocal88.org/event/local-88-steward-training/
LOCATION:SEIU 503 Building\, 525 NE Oregon St.\, Portland\, Oregon\, 97232
END:VEVENT
END:VCALENDAR