BEGIN:VCALENDAR
VERSION:2.0
PRODID:-//AFSCME Local 88 - ECPv6.15.20//NONSGML v1.0//EN
CALSCALE:GREGORIAN
METHOD:PUBLISH
X-WR-CALNAME:AFSCME Local 88
X-ORIGINAL-URL:https://www.afscmelocal88.org
X-WR-CALDESC:Events for AFSCME Local 88
REFRESH-INTERVAL;VALUE=DURATION:PT1H
X-Robots-Tag:noindex
X-PUBLISHED-TTL:PT1H
BEGIN:VTIMEZONE
TZID:America/Los_Angeles
BEGIN:DAYLIGHT
TZOFFSETFROM:-0800
TZOFFSETTO:-0700
TZNAME:PDT
DTSTART:20230312T100000
END:DAYLIGHT
BEGIN:STANDARD
TZOFFSETFROM:-0700
TZOFFSETTO:-0800
TZNAME:PST
DTSTART:20231105T090000
END:STANDARD
BEGIN:DAYLIGHT
TZOFFSETFROM:-0800
TZOFFSETTO:-0700
TZNAME:PDT
DTSTART:20240310T100000
END:DAYLIGHT
BEGIN:STANDARD
TZOFFSETFROM:-0700
TZOFFSETTO:-0800
TZNAME:PST
DTSTART:20241103T090000
END:STANDARD
BEGIN:DAYLIGHT
TZOFFSETFROM:-0800
TZOFFSETTO:-0700
TZNAME:PDT
DTSTART:20250309T100000
END:DAYLIGHT
BEGIN:STANDARD
TZOFFSETFROM:-0700
TZOFFSETTO:-0800
TZNAME:PST
DTSTART:20251102T090000
END:STANDARD
END:VTIMEZONE
BEGIN:VEVENT
DTSTART;TZID=America/Los_Angeles:20241106T181500
DTEND;TZID=America/Los_Angeles:20241106T181500
DTSTAMP:20260422T021432
CREATED:20231219T030722Z
LAST-MODIFIED:20240509T031034Z
UID:10092-1730916900-1730916900@www.afscmelocal88.org
SUMMARY:Local 88 Executive Board Meeting
DESCRIPTION:The Executive Board meets the first Wednesday of every month at 6:15 p.m. Any member in good standing is welcome to attend.  \nRegister online by 6:00 p.m. the Monday before the Executive Board Meeting you wish to attend. Use your personal email address. Late registrations are not guaranteed participation. \nRequest to add an agenda item Submit the webform by 8:00 a.m. the Friday before the meeting. Agenda items submitted after that are not guaranteed to be added to the agenda. \nTrouble joining the meeting? Email 88cabinet@afscmelocal88.org for support. \nAdd this event to your personal calendar:  \n\nGoogle Calendar: Use the green button at the bottom of the event +GOOGLE CALENDAR then follow Google Calendar prompts\nOther Calendars: Use the green button at the bottom of the event +ICAL EXPORT to download the .ics file. Then follow the instructions for your calendar\n\nGoogle Calendar\nOutlook Calendar
URL:https://www.afscmelocal88.org/event/local-88-executive-board-meeting-32/
END:VEVENT
BEGIN:VEVENT
DTSTART;TZID=America/Los_Angeles:20241114T170000
DTEND;TZID=America/Los_Angeles:20241114T190000
DTSTAMP:20260422T021432
CREATED:20241017T013218Z
LAST-MODIFIED:20241017T013218Z
UID:11257-1731603600-1731610800@www.afscmelocal88.org
SUMMARY:Constitution and Policy Committee
DESCRIPTION:This is an ad hoc committee that meets every few years or as needed. We review and make changes to our policies and/or constitution. \nTo join this committee or for information to join this meeting please email 88cabinet@afscmelocal88.org.
URL:https://www.afscmelocal88.org/event/constitution-and-policy-committee/
LOCATION:Virtual
END:VEVENT
BEGIN:VEVENT
DTSTART;TZID=America/Los_Angeles:20241120T181500
DTEND;TZID=America/Los_Angeles:20241120T181500
DTSTAMP:20260422T021432
CREATED:20231219T025826Z
LAST-MODIFIED:20241120T041949Z
UID:10076-1732126500-1732126500@www.afscmelocal88.org
SUMMARY:Local 88 General Membership Meeting
DESCRIPTION:General Membership Meetings are held the third Wednesday of every month at 6:15 p.m. Any member in good standing is welcome to attend. \nRegister online by 6:00 p.m. the Monday before the General Membership Meeting you wish to attend. Use your personal email address. Late registrations are not guaranteed participation. \nMake a motion Submit the webform by 6:00 p.m. on the Monday before the meeting. Agenda items submitted after that are not guaranteed to be added to the agenda.  \nRequest to add an agenda item Submit the webform by 8:00 a.m. the Friday before the meeting. Agenda items submitted after that are not guaranteed to be added to the agenda.  \nTrouble joining the meeting? Email 88cabinet@afscmelocal88.org for support.
URL:https://www.afscmelocal88.org/event/local-88-general-membership-meeting-29/
END:VEVENT
END:VCALENDAR